BEGIN:VCALENDAR
VERSION:2.0
PRODID:-//Oakley Training &amp; Consultancy - ECPv6.2.8//NONSGML v1.0//EN
CALSCALE:GREGORIAN
METHOD:PUBLISH
X-ORIGINAL-URL:https://oakley-services.co.uk
X-WR-CALDESC:Events for Oakley Training &amp; Consultancy
REFRESH-INTERVAL;VALUE=DURATION:PT1H
X-Robots-Tag:noindex
X-PUBLISHED-TTL:PT1H
BEGIN:VTIMEZONE
TZID:Europe/London
BEGIN:DAYLIGHT
TZOFFSETFROM:+0000
TZOFFSETTO:+0100
TZNAME:BST
DTSTART:20220327T010000
END:DAYLIGHT
BEGIN:STANDARD
TZOFFSETFROM:+0100
TZOFFSETTO:+0000
TZNAME:GMT
DTSTART:20221030T010000
END:STANDARD
END:VTIMEZONE
BEGIN:VEVENT
DTSTART;TZID=Europe/London:20220108T110000
DTEND;TZID=Europe/London:20220108T130000
DTSTAMP:20260423T153607
CREATED:20211229T114550Z
LAST-MODIFIED:20211229T114550Z
UID:10002006-1641639600-1641646800@oakley-services.co.uk
SUMMARY:18th Edition Exam only
DESCRIPTION:
URL:https://oakley-services.co.uk/courses/18th-edition-exam-only-26/
LOCATION:Basingstoke Training Centre\, Hart House\, Priestley Road\, Basingstoke\, Hampshire\, RG24 9PU\, United Kingdom
CATEGORIES:Electrical Training Courses
ORGANIZER;CN="Oakley Services":MAILTO:info@oakley-services.co.uk
END:VEVENT
BEGIN:VEVENT
DTSTART;TZID=Europe/London:20220110T090000
DTEND;TZID=Europe/London:20220112T163000
DTSTAMP:20260423T153607
CREATED:20211215T143359Z
LAST-MODIFIED:20220106T102105Z
UID:10001714-1641805200-1642005000@oakley-services.co.uk
SUMMARY:18th Edition C&G 2382-18 3 day Full Course
DESCRIPTION:
URL:https://oakley-services.co.uk/courses/18th-edition-cg-2382-18-3-day-full-course-19/
LOCATION:Basingstoke Training Centre\, Hart House\, Priestley Road\, Basingstoke\, Hampshire\, RG24 9PU\, United Kingdom
CATEGORIES:Electrical Training Courses
ORGANIZER;CN="Oakley Services":MAILTO:info@oakley-services.co.uk
END:VEVENT
BEGIN:VEVENT
DTSTART;TZID=Europe/London:20220124T090000
DTEND;TZID=Europe/London:20220126T163000
DTSTAMP:20260423T153607
CREATED:20211231T220231Z
LAST-MODIFIED:20211231T220231Z
UID:10002026-1643014800-1643214600@oakley-services.co.uk
SUMMARY:18th Edition C&G 2382-18 3 day Full Course
DESCRIPTION:
URL:https://oakley-services.co.uk/courses/18th-edition-cg-2382-18-3-day-full-course-21/
LOCATION:Oxford Golf Club\, Hill Top Road\, Oxford\, Oxfordshire\, OX4 1PF\, United Kingdom
CATEGORIES:Electrical Training Courses
ORGANIZER;CN="Oakley Services":MAILTO:info@oakley-services.co.uk
END:VEVENT
BEGIN:VEVENT
DTSTART;TZID=Europe/London:20220124T090000
DTEND;TZID=Europe/London:20220131T133000
DTSTAMP:20260423T153607
CREATED:20211202T125650Z
LAST-MODIFIED:20220210T180134Z
UID:10001995-1643014800-1643635800@oakley-services.co.uk
SUMMARY:Inspection and Testing C&G 2391-52
DESCRIPTION:
URL:https://oakley-services.co.uk/courses/inspection-and-testing-cg-2391-52-14/
LOCATION:Basingstoke Training Centre\, Hart House\, Priestley Road\, Basingstoke\, Hampshire\, RG24 9PU\, United Kingdom
CATEGORIES:Electrical Training Courses
ORGANIZER;CN="Oakley Services":MAILTO:info@oakley-services.co.uk
END:VEVENT
END:VCALENDAR