BEGIN:VCALENDAR
VERSION:2.0
PRODID:-//Oakley Training &amp; Consultancy - ECPv6.2.8//NONSGML v1.0//EN
CALSCALE:GREGORIAN
METHOD:PUBLISH
X-WR-CALNAME:Oakley Training &amp; Consultancy
X-ORIGINAL-URL:https://oakley-services.co.uk
X-WR-CALDESC:Events for Oakley Training &amp; Consultancy
REFRESH-INTERVAL;VALUE=DURATION:PT1H
X-Robots-Tag:noindex
X-PUBLISHED-TTL:PT1H
BEGIN:VTIMEZONE
TZID:Europe/London
BEGIN:DAYLIGHT
TZOFFSETFROM:+0000
TZOFFSETTO:+0100
TZNAME:BST
DTSTART:20210328T010000
END:DAYLIGHT
BEGIN:STANDARD
TZOFFSETFROM:+0100
TZOFFSETTO:+0000
TZNAME:GMT
DTSTART:20211031T010000
END:STANDARD
BEGIN:DAYLIGHT
TZOFFSETFROM:+0000
TZOFFSETTO:+0100
TZNAME:BST
DTSTART:20220327T010000
END:DAYLIGHT
BEGIN:STANDARD
TZOFFSETFROM:+0100
TZOFFSETTO:+0000
TZNAME:GMT
DTSTART:20221030T010000
END:STANDARD
END:VTIMEZONE
BEGIN:VEVENT
DTSTART;TZID=Europe/London:20210719T100000
DTEND;TZID=Europe/London:20210726T143000
DTSTAMP:20260426T035429
CREATED:20210526T094038Z
LAST-MODIFIED:20210526T094038Z
UID:10001932-1626688800-1627309800@oakley-services.co.uk
SUMMARY:Inspection and Testing C&G 2391-52
DESCRIPTION:
URL:https://oakley-services.co.uk/courses/inspection-and-testing-cg-2391-52-9/
LOCATION:Basingstoke Training Centre\, Hart House\, Priestley Road\, Basingstoke\, Hampshire\, RG24 9PU\, United Kingdom
CATEGORIES:Electrical Training Courses
ORGANIZER;CN="Oakley Services":MAILTO:info@oakley-services.co.uk
END:VEVENT
BEGIN:VEVENT
DTSTART;TZID=Europe/London:20210724T120000
DTEND;TZID=Europe/London:20210724T140000
DTSTAMP:20260426T035429
CREATED:20210721T121339Z
LAST-MODIFIED:20210721T121339Z
UID:10001953-1627128000-1627135200@oakley-services.co.uk
SUMMARY:18th Edition Exam only
DESCRIPTION:
URL:https://oakley-services.co.uk/courses/18th-edition-exam-only-19/
LOCATION:Basingstoke Training Centre\, Hart House\, Priestley Road\, Basingstoke\, Hampshire\, RG24 9PU\, United Kingdom
CATEGORIES:Electrical Training Courses
ORGANIZER;CN="Oakley Services":MAILTO:info@oakley-services.co.uk
END:VEVENT
BEGIN:VEVENT
DTSTART;TZID=Europe/London:20210802T100000
DTEND;TZID=Europe/London:20210804T173000
DTSTAMP:20260426T035429
CREATED:20210706T132308Z
LAST-MODIFIED:20210706T132308Z
UID:10001938-1627898400-1628098200@oakley-services.co.uk
SUMMARY:18th Edition C&G 2382-18 3 day Full Course
DESCRIPTION:
URL:https://oakley-services.co.uk/courses/18th-edition-cg-2382-18-3-day-full-course-15/
LOCATION:Basingstoke Training Centre\, Hart House\, Priestley Road\, Basingstoke\, Hampshire\, RG24 9PU\, United Kingdom
CATEGORIES:Electrical Training Courses
ORGANIZER;CN="Oakley Services":MAILTO:info@oakley-services.co.uk
END:VEVENT
BEGIN:VEVENT
DTSTART;TZID=Europe/London:20210816T100000
DTEND;TZID=Europe/London:20210823T143000
DTSTAMP:20260426T035429
CREATED:20210601T104632Z
LAST-MODIFIED:20210601T120436Z
UID:10001639-1629108000-1629729000@oakley-services.co.uk
SUMMARY:Inspection and Testing C&G 2391-52
DESCRIPTION:
URL:https://oakley-services.co.uk/courses/inspection-and-testing-cg-2391-52-10/
LOCATION:Basingstoke Training Centre\, Hart House\, Priestley Road\, Basingstoke\, Hampshire\, RG24 9PU\, United Kingdom
CATEGORIES:Electrical Training Courses
ORGANIZER;CN="Oakley Services":MAILTO:info@oakley-services.co.uk
END:VEVENT
BEGIN:VEVENT
DTSTART;TZID=Europe/London:20210821T120000
DTEND;TZID=Europe/London:20210821T140000
DTSTAMP:20260426T035429
CREATED:20210805T080220Z
LAST-MODIFIED:20210805T080220Z
UID:10001958-1629547200-1629554400@oakley-services.co.uk
SUMMARY:18th Edition Exam only
DESCRIPTION:
URL:https://oakley-services.co.uk/courses/18th-edition-exam-only-20/
LOCATION:Basingstoke Training Centre\, Hart House\, Priestley Road\, Basingstoke\, Hampshire\, RG24 9PU\, United Kingdom
CATEGORIES:Electrical Training Courses
ORGANIZER;CN="Oakley Services":MAILTO:info@oakley-services.co.uk
END:VEVENT
BEGIN:VEVENT
DTSTART;TZID=Europe/London:20210920T100000
DTEND;TZID=Europe/London:20210927T143000
DTSTAMP:20260426T035429
CREATED:20210803T144725Z
LAST-MODIFIED:20210803T144744Z
UID:10001957-1632132000-1632753000@oakley-services.co.uk
SUMMARY:Inspection and Testing C&G 2391-52
DESCRIPTION:
URL:https://oakley-services.co.uk/courses/inspection-and-testing-cg-2391-52-11/
LOCATION:Basingstoke Training Centre\, Hart House\, Priestley Road\, Basingstoke\, Hampshire\, RG24 9PU\, United Kingdom
CATEGORIES:Electrical Training Courses
ORGANIZER;CN="Oakley Services":MAILTO:info@oakley-services.co.uk
END:VEVENT
BEGIN:VEVENT
DTSTART;TZID=Europe/London:20210925T120000
DTEND;TZID=Europe/London:20210925T140000
DTSTAMP:20260426T035429
CREATED:20210825T154721Z
LAST-MODIFIED:20210825T154721Z
UID:10001658-1632571200-1632578400@oakley-services.co.uk
SUMMARY:18th Edition Exam only
DESCRIPTION:
URL:https://oakley-services.co.uk/courses/18th-edition-exam-only-21/
LOCATION:Basingstoke Training Centre\, Hart House\, Priestley Road\, Basingstoke\, Hampshire\, RG24 9PU\, United Kingdom
CATEGORIES:Electrical Training Courses
ORGANIZER;CN="Oakley Services":MAILTO:info@oakley-services.co.uk
END:VEVENT
BEGIN:VEVENT
DTSTART;TZID=Europe/London:20211004T093000
DTEND;TZID=Europe/London:20211006T173000
DTSTAMP:20260426T035429
CREATED:20210803T142423Z
LAST-MODIFIED:20210803T142423Z
UID:10001955-1633339800-1633541400@oakley-services.co.uk
SUMMARY:18th Edition C&G 2382-18 3 day Full Course
DESCRIPTION:
URL:https://oakley-services.co.uk/courses/18th-edition-cg-2382-18-3-day-full-course-17/
LOCATION:Basingstoke Training Centre\, Hart House\, Priestley Road\, Basingstoke\, Hampshire\, RG24 9PU\, United Kingdom
CATEGORIES:Electrical Training Courses
ORGANIZER;CN="Oakley Services":MAILTO:info@oakley-services.co.uk
END:VEVENT
BEGIN:VEVENT
DTSTART;TZID=Europe/London:20211016T120000
DTEND;TZID=Europe/London:20211016T140000
DTSTAMP:20260426T035429
CREATED:20210930T152320Z
LAST-MODIFIED:20211018T071320Z
UID:10001966-1634385600-1634392800@oakley-services.co.uk
SUMMARY:18th Edition Exam only
DESCRIPTION:
URL:https://oakley-services.co.uk/courses/18th-edition-exam-only-22/
LOCATION:Basingstoke Training Centre\, Hart House\, Priestley Road\, Basingstoke\, Hampshire\, RG24 9PU\, United Kingdom
CATEGORIES:Electrical Training Courses
ORGANIZER;CN="Oakley Services":MAILTO:info@oakley-services.co.uk
END:VEVENT
BEGIN:VEVENT
DTSTART;TZID=Europe/London:20211018T100000
DTEND;TZID=Europe/London:20211025T143000
DTSTAMP:20260426T035429
CREATED:20210910T102625Z
LAST-MODIFIED:20210910T102625Z
UID:10001671-1634551200-1635172200@oakley-services.co.uk
SUMMARY:Inspection and Testing C&G 2391-52
DESCRIPTION:
URL:https://oakley-services.co.uk/courses/inspection-and-testing-cg-2391-52-12/
LOCATION:Basingstoke Training Centre\, Hart House\, Priestley Road\, Basingstoke\, Hampshire\, RG24 9PU\, United Kingdom
CATEGORIES:Electrical Training Courses
ORGANIZER;CN="Oakley Services":MAILTO:info@oakley-services.co.uk
END:VEVENT
BEGIN:VEVENT
DTSTART;TZID=Europe/London:20211029T190000
DTEND;TZID=Europe/London:20211029T210000
DTSTAMP:20260426T035429
CREATED:20220210T151014Z
LAST-MODIFIED:20220210T151014Z
UID:10001747-1635534000-1635541200@oakley-services.co.uk
SUMMARY:18th Edition Exam only
DESCRIPTION:
URL:https://oakley-services.co.uk/courses/18th-edition-exam-only-28/
LOCATION:Basingstoke Training Centre\, Hart House\, Priestley Road\, Basingstoke\, Hampshire\, RG24 9PU\, United Kingdom
CATEGORIES:Electrical Training Courses
ORGANIZER;CN="Oakley Services":MAILTO:info@oakley-services.co.uk
END:VEVENT
BEGIN:VEVENT
DTSTART;TZID=Europe/London:20211110T083000
DTEND;TZID=Europe/London:20211112T163000
DTSTAMP:20260426T035429
CREATED:20211013T140122Z
LAST-MODIFIED:20211013T140122Z
UID:10001974-1636533000-1636734600@oakley-services.co.uk
SUMMARY:18th Edition C&G 2382-18 3 day Full Course
DESCRIPTION:
URL:https://oakley-services.co.uk/courses/18th-edition-cg-2382-18-3-day-full-course-16/
LOCATION:Basingstoke Training Centre\, Hart House\, Priestley Road\, Basingstoke\, Hampshire\, RG24 9PU\, United Kingdom
CATEGORIES:Electrical Training Courses
ORGANIZER;CN="Oakley Services":MAILTO:info@oakley-services.co.uk
END:VEVENT
BEGIN:VEVENT
DTSTART;TZID=Europe/London:20211115T090000
DTEND;TZID=Europe/London:20211122T133000
DTSTAMP:20260426T035429
CREATED:20210910T103121Z
LAST-MODIFIED:20211018T071414Z
UID:10001673-1636966800-1637587800@oakley-services.co.uk
SUMMARY:Inspection and Testing C&G 2391-52
DESCRIPTION:
URL:https://oakley-services.co.uk/courses/inspection-and-testing-cg-2391-52-13/
LOCATION:Basingstoke Training Centre\, Hart House\, Priestley Road\, Basingstoke\, Hampshire\, RG24 9PU\, United Kingdom
CATEGORIES:Electrical Training Courses
ORGANIZER;CN="Oakley Services":MAILTO:info@oakley-services.co.uk
END:VEVENT
BEGIN:VEVENT
DTSTART;TZID=Europe/London:20211118T180000
DTEND;TZID=Europe/London:20211118T200000
DTSTAMP:20260426T035429
CREATED:20211116T085754Z
LAST-MODIFIED:20211116T085754Z
UID:10001991-1637258400-1637265600@oakley-services.co.uk
SUMMARY:18th Edition Exam only
DESCRIPTION:
URL:https://oakley-services.co.uk/courses/18th-edition-exam-only-24/
LOCATION:Basingstoke Training Centre\, Hart House\, Priestley Road\, Basingstoke\, Hampshire\, RG24 9PU\, United Kingdom
CATEGORIES:Electrical Training Courses
ORGANIZER;CN="Oakley Services":MAILTO:info@oakley-services.co.uk
END:VEVENT
BEGIN:VEVENT
DTSTART;TZID=Europe/London:20211120T110000
DTEND;TZID=Europe/London:20211120T130000
DTSTAMP:20260426T035429
CREATED:20210930T152827Z
LAST-MODIFIED:20210930T152827Z
UID:10001967-1637406000-1637413200@oakley-services.co.uk
SUMMARY:18th Edition Exam only
DESCRIPTION:
URL:https://oakley-services.co.uk/courses/18th-edition-exam-only-23/
LOCATION:Basingstoke Training Centre\, Hart House\, Priestley Road\, Basingstoke\, Hampshire\, RG24 9PU\, United Kingdom
CATEGORIES:Electrical Training Courses
ORGANIZER;CN="Oakley Services":MAILTO:info@oakley-services.co.uk
END:VEVENT
BEGIN:VEVENT
DTSTART;TZID=Europe/London:20211202T180000
DTEND;TZID=Europe/London:20211202T200000
DTSTAMP:20260426T035429
CREATED:20220210T151253Z
LAST-MODIFIED:20220210T151253Z
UID:10002030-1638468000-1638475200@oakley-services.co.uk
SUMMARY:18th Edition Exam only
DESCRIPTION:
URL:https://oakley-services.co.uk/courses/18th-edition-exam-only-29/
LOCATION:Basingstoke Training Centre\, Hart House\, Priestley Road\, Basingstoke\, Hampshire\, RG24 9PU\, United Kingdom
CATEGORIES:Electrical Training Courses
ORGANIZER;CN="Oakley Services":MAILTO:info@oakley-services.co.uk
END:VEVENT
BEGIN:VEVENT
DTSTART;TZID=Europe/London:20211204T110000
DTEND;TZID=Europe/London:20211204T130000
DTSTAMP:20260426T035429
CREATED:20211203T122433Z
LAST-MODIFIED:20211203T122433Z
UID:10001996-1638615600-1638622800@oakley-services.co.uk
SUMMARY:18th Edition Exam only
DESCRIPTION:
URL:https://oakley-services.co.uk/courses/18th-edition-exam-only-25/
LOCATION:Basingstoke Training Centre\, Hart House\, Priestley Road\, Basingstoke\, Hampshire\, RG24 9PU\, United Kingdom
CATEGORIES:Electrical Training Courses
ORGANIZER;CN="Oakley Services":MAILTO:info@oakley-services.co.uk
END:VEVENT
BEGIN:VEVENT
DTSTART;TZID=Europe/London:20220108T110000
DTEND;TZID=Europe/London:20220108T130000
DTSTAMP:20260426T035429
CREATED:20211229T114550Z
LAST-MODIFIED:20211229T114550Z
UID:10002006-1641639600-1641646800@oakley-services.co.uk
SUMMARY:18th Edition Exam only
DESCRIPTION:
URL:https://oakley-services.co.uk/courses/18th-edition-exam-only-26/
LOCATION:Basingstoke Training Centre\, Hart House\, Priestley Road\, Basingstoke\, Hampshire\, RG24 9PU\, United Kingdom
CATEGORIES:Electrical Training Courses
ORGANIZER;CN="Oakley Services":MAILTO:info@oakley-services.co.uk
END:VEVENT
BEGIN:VEVENT
DTSTART;TZID=Europe/London:20220110T090000
DTEND;TZID=Europe/London:20220112T163000
DTSTAMP:20260426T035429
CREATED:20211215T143359Z
LAST-MODIFIED:20220106T102105Z
UID:10001714-1641805200-1642005000@oakley-services.co.uk
SUMMARY:18th Edition C&G 2382-18 3 day Full Course
DESCRIPTION:
URL:https://oakley-services.co.uk/courses/18th-edition-cg-2382-18-3-day-full-course-19/
LOCATION:Basingstoke Training Centre\, Hart House\, Priestley Road\, Basingstoke\, Hampshire\, RG24 9PU\, United Kingdom
CATEGORIES:Electrical Training Courses
ORGANIZER;CN="Oakley Services":MAILTO:info@oakley-services.co.uk
END:VEVENT
BEGIN:VEVENT
DTSTART;TZID=Europe/London:20220124T090000
DTEND;TZID=Europe/London:20220126T163000
DTSTAMP:20260426T035429
CREATED:20211231T220231Z
LAST-MODIFIED:20211231T220231Z
UID:10002026-1643014800-1643214600@oakley-services.co.uk
SUMMARY:18th Edition C&G 2382-18 3 day Full Course
DESCRIPTION:
URL:https://oakley-services.co.uk/courses/18th-edition-cg-2382-18-3-day-full-course-21/
LOCATION:Oxford Golf Club\, Hill Top Road\, Oxford\, Oxfordshire\, OX4 1PF\, United Kingdom
CATEGORIES:Electrical Training Courses
ORGANIZER;CN="Oakley Services":MAILTO:info@oakley-services.co.uk
END:VEVENT
BEGIN:VEVENT
DTSTART;TZID=Europe/London:20220124T090000
DTEND;TZID=Europe/London:20220131T133000
DTSTAMP:20260426T035429
CREATED:20211202T125650Z
LAST-MODIFIED:20220210T180134Z
UID:10001995-1643014800-1643635800@oakley-services.co.uk
SUMMARY:Inspection and Testing C&G 2391-52
DESCRIPTION:
URL:https://oakley-services.co.uk/courses/inspection-and-testing-cg-2391-52-14/
LOCATION:Basingstoke Training Centre\, Hart House\, Priestley Road\, Basingstoke\, Hampshire\, RG24 9PU\, United Kingdom
CATEGORIES:Electrical Training Courses
ORGANIZER;CN="Oakley Services":MAILTO:info@oakley-services.co.uk
END:VEVENT
BEGIN:VEVENT
DTSTART;TZID=Europe/London:20220215T180000
DTEND;TZID=Europe/London:20220215T200000
DTSTAMP:20260426T035429
CREATED:20220303T160418Z
LAST-MODIFIED:20220303T160848Z
UID:10002038-1644948000-1644955200@oakley-services.co.uk
SUMMARY:18th Edition Exam only
DESCRIPTION:
URL:https://oakley-services.co.uk/courses/18th-edition-exam-only-31/
LOCATION:Basingstoke Training Centre\, Hart House\, Priestley Road\, Basingstoke\, Hampshire\, RG24 9PU\, United Kingdom
CATEGORIES:Electrical Training Courses
ORGANIZER;CN="Oakley Services":MAILTO:info@oakley-services.co.uk
END:VEVENT
BEGIN:VEVENT
DTSTART;TZID=Europe/London:20220221T090000
DTEND;TZID=Europe/London:20220228T133000
DTSTAMP:20260426T035429
CREATED:20211229T113754Z
LAST-MODIFIED:20220125T121234Z
UID:10001724-1645434000-1646055000@oakley-services.co.uk
SUMMARY:Inspection and Testing C&G 2391-52
DESCRIPTION:
URL:https://oakley-services.co.uk/courses/inspection-and-testing-cg-2391-52-15/
LOCATION:Basingstoke Training Centre\, Hart House\, Priestley Road\, Basingstoke\, Hampshire\, RG24 9PU\, United Kingdom
CATEGORIES:Electrical Training Courses
ORGANIZER;CN="Oakley Services":MAILTO:info@oakley-services.co.uk
END:VEVENT
BEGIN:VEVENT
DTSTART;TZID=Europe/London:20220222T180000
DTEND;TZID=Europe/London:20220222T200000
DTSTAMP:20260426T035429
CREATED:20220218T150504Z
LAST-MODIFIED:20220218T150504Z
UID:10002032-1645552800-1645560000@oakley-services.co.uk
SUMMARY:18th Edition Exam only
DESCRIPTION:
URL:https://oakley-services.co.uk/courses/18th-edition-exam-only-30/
LOCATION:Basingstoke Training Centre\, Hart House\, Priestley Road\, Basingstoke\, Hampshire\, RG24 9PU\, United Kingdom
CATEGORIES:Electrical Training Courses
ORGANIZER;CN="Oakley Services":MAILTO:info@oakley-services.co.uk
END:VEVENT
BEGIN:VEVENT
DTSTART;TZID=Europe/London:20220226T110000
DTEND;TZID=Europe/London:20220226T130000
DTSTAMP:20260426T035429
CREATED:20211229T115207Z
LAST-MODIFIED:20211229T115207Z
UID:10002007-1645873200-1645880400@oakley-services.co.uk
SUMMARY:18th Edition Exam only
DESCRIPTION:
URL:https://oakley-services.co.uk/courses/18th-edition-exam-only-27/
LOCATION:Basingstoke Training Centre\, Hart House\, Priestley Road\, Basingstoke\, Hampshire\, RG24 9PU\, United Kingdom
CATEGORIES:Electrical Training Courses
ORGANIZER;CN="Oakley Services":MAILTO:info@oakley-services.co.uk
END:VEVENT
BEGIN:VEVENT
DTSTART;TZID=Europe/London:20220307T090000
DTEND;TZID=Europe/London:20220309T163000
DTSTAMP:20260426T035429
CREATED:20220222T093937Z
LAST-MODIFIED:20220222T093937Z
UID:10002035-1646643600-1646843400@oakley-services.co.uk
SUMMARY:18th Edition C&G 2382-18 3 day Full Course
DESCRIPTION:
URL:https://oakley-services.co.uk/courses/18th-edition-cg-2382-18-3-day-full-course-20/
LOCATION:Basingstoke Training Centre\, Hart House\, Priestley Road\, Basingstoke\, Hampshire\, RG24 9PU\, United Kingdom
CATEGORIES:Electrical Training Courses
ORGANIZER;CN="Oakley Services":MAILTO:info@oakley-services.co.uk
END:VEVENT
BEGIN:VEVENT
DTSTART;TZID=Europe/London:20220321T090000
DTEND;TZID=Europe/London:20220328T143000
DTSTAMP:20260426T035429
CREATED:20220210T174238Z
LAST-MODIFIED:20220210T174238Z
UID:10002031-1647853200-1648477800@oakley-services.co.uk
SUMMARY:Inspection and Testing C&G 2391-52
DESCRIPTION:
URL:https://oakley-services.co.uk/courses/inspection-and-testing-cg-2391-52-16/
LOCATION:Basingstoke Training Centre\, Hart House\, Priestley Road\, Basingstoke\, Hampshire\, RG24 9PU\, United Kingdom
CATEGORIES:Electrical Training Courses
ORGANIZER;CN="Oakley Services":MAILTO:info@oakley-services.co.uk
END:VEVENT
BEGIN:VEVENT
DTSTART;TZID=Europe/London:20220402T120000
DTEND;TZID=Europe/London:20220402T140000
DTSTAMP:20260426T035429
CREATED:20220307T175644Z
LAST-MODIFIED:20220307T175828Z
UID:10002039-1648900800-1648908000@oakley-services.co.uk
SUMMARY:18th Edition Exam only
DESCRIPTION:
URL:https://oakley-services.co.uk/courses/18th-edition-exam-only-32/
LOCATION:Basingstoke Training Centre\, Hart House\, Priestley Road\, Basingstoke\, Hampshire\, RG24 9PU\, United Kingdom
CATEGORIES:Electrical Training Courses
ORGANIZER;CN="Oakley Services":MAILTO:info@oakley-services.co.uk
END:VEVENT
BEGIN:VEVENT
DTSTART;TZID=Europe/London:20220411T100000
DTEND;TZID=Europe/London:20220413T173000
DTSTAMP:20260426T035429
CREATED:20220316T124151Z
LAST-MODIFIED:20220316T124151Z
UID:10001758-1649671200-1649871000@oakley-services.co.uk
SUMMARY:18th Edition C&G 2382-18 3 day Full Course
DESCRIPTION:
URL:https://oakley-services.co.uk/courses/18th-edition-cg-2382-18-3-day-full-course-22/
LOCATION:Basingstoke Training Centre\, Hart House\, Priestley Road\, Basingstoke\, Hampshire\, RG24 9PU\, United Kingdom
CATEGORIES:Electrical Training Courses
ORGANIZER;CN="Oakley Services":MAILTO:info@oakley-services.co.uk
END:VEVENT
BEGIN:VEVENT
DTSTART;TZID=Europe/London:20220414T190000
DTEND;TZID=Europe/London:20220414T210000
DTSTAMP:20260426T035429
CREATED:20220414T153338Z
LAST-MODIFIED:20220414T153338Z
UID:10002063-1649962800-1649970000@oakley-services.co.uk
SUMMARY:18th Edition Exam only
DESCRIPTION:
URL:https://oakley-services.co.uk/courses/18th-edition-exam-only-33/
LOCATION:Basingstoke Training Centre\, Hart House\, Priestley Road\, Basingstoke\, Hampshire\, RG24 9PU\, United Kingdom
CATEGORIES:Electrical Training Courses
ORGANIZER;CN="Oakley Services":MAILTO:info@oakley-services.co.uk
END:VEVENT
END:VCALENDAR