BEGIN:VCALENDAR
VERSION:2.0
PRODID:-//Oakley Training &amp; Consultancy - ECPv6.2.8//NONSGML v1.0//EN
CALSCALE:GREGORIAN
METHOD:PUBLISH
X-WR-CALNAME:Oakley Training &amp; Consultancy
X-ORIGINAL-URL:https://oakley-services.co.uk
X-WR-CALDESC:Events for Oakley Training &amp; Consultancy
REFRESH-INTERVAL;VALUE=DURATION:PT1H
X-Robots-Tag:noindex
X-PUBLISHED-TTL:PT1H
BEGIN:VTIMEZONE
TZID:Europe/London
BEGIN:DAYLIGHT
TZOFFSETFROM:+0000
TZOFFSETTO:+0100
TZNAME:BST
DTSTART:20220327T010000
END:DAYLIGHT
BEGIN:STANDARD
TZOFFSETFROM:+0100
TZOFFSETTO:+0000
TZNAME:GMT
DTSTART:20221030T010000
END:STANDARD
END:VTIMEZONE
BEGIN:VEVENT
DTSTART;TZID=Europe/London:20220303T090000
DTEND;TZID=Europe/London:20220303T163000
DTSTAMP:20260420T082550
CREATED:20211231T174406Z
LAST-MODIFIED:20211231T174406Z
UID:10002023-1646298000-1646325000@oakley-services.co.uk
SUMMARY:Emergency First Aid at Work
DESCRIPTION:
URL:https://oakley-services.co.uk/courses/emergency-first-aid-at-work-62/
LOCATION:Basingstoke Training Centre\, Hart House\, Priestley Road\, Basingstoke\, Hampshire\, RG24 9PU\, United Kingdom
CATEGORIES:First Aid Training Courses
ORGANIZER;CN="Oakley Services":MAILTO:info@oakley-services.co.uk
END:VEVENT
BEGIN:VEVENT
DTSTART;TZID=Europe/London:20220314T090000
DTEND;TZID=Europe/London:20220315T163000
DTSTAMP:20260420T082551
CREATED:20211231T163758Z
LAST-MODIFIED:20211231T163758Z
UID:10002018-1647248400-1647361800@oakley-services.co.uk
SUMMARY:First Aid at Work Requalification Course
DESCRIPTION:
URL:https://oakley-services.co.uk/courses/first-aid-at-work-requalification-course-18/
LOCATION:Basingstoke Training Centre\, Hart House\, Priestley Road\, Basingstoke\, Hampshire\, RG24 9PU\, United Kingdom
CATEGORIES:First Aid Training Courses
ORGANIZER;CN="Oakley Services":MAILTO:info@oakley-services.co.uk
END:VEVENT
BEGIN:VEVENT
DTSTART;TZID=Europe/London:20220316T090000
DTEND;TZID=Europe/London:20220318T170000
DTSTAMP:20260420T082551
CREATED:20211231T151013Z
LAST-MODIFIED:20211231T151444Z
UID:10002015-1647421200-1647622800@oakley-services.co.uk
SUMMARY:First Aid at Work
DESCRIPTION:
URL:https://oakley-services.co.uk/courses/first-aid-at-work-23/
LOCATION:Basingstoke Training Centre\, Hart House\, Priestley Road\, Basingstoke\, Hampshire\, RG24 9PU\, United Kingdom
CATEGORIES:First Aid Training Courses
ORGANIZER;CN="Oakley Services":MAILTO:info@oakley-services.co.uk
END:VEVENT
BEGIN:VEVENT
DTSTART;TZID=Europe/London:20220319T090000
DTEND;TZID=Europe/London:20220326T163000
DTSTAMP:20260420T082551
CREATED:20220121T103905Z
LAST-MODIFIED:20220411T163057Z
UID:10001733-1647680400-1648312200@oakley-services.co.uk
SUMMARY:Full Paediatric First Aid Course
DESCRIPTION:
URL:https://oakley-services.co.uk/courses/full-paediatric-first-aid-course-20/
LOCATION:Basingstoke Training Centre\, Hart House\, Priestley Road\, Basingstoke\, Hampshire\, RG24 9PU\, United Kingdom
CATEGORIES:First Aid Training Courses
ORGANIZER;CN="Oakley Services":MAILTO:info@oakley-services.co.uk
END:VEVENT
END:VCALENDAR