BEGIN:VCALENDAR
VERSION:2.0
PRODID:-//Oakley Training &amp; Consultancy - ECPv6.2.8//NONSGML v1.0//EN
CALSCALE:GREGORIAN
METHOD:PUBLISH
X-ORIGINAL-URL:https://oakley-services.co.uk
X-WR-CALDESC:Events for Oakley Training &amp; Consultancy
REFRESH-INTERVAL;VALUE=DURATION:PT1H
X-Robots-Tag:noindex
X-PUBLISHED-TTL:PT1H
BEGIN:VTIMEZONE
TZID:Europe/London
BEGIN:DAYLIGHT
TZOFFSETFROM:+0000
TZOFFSETTO:+0100
TZNAME:BST
DTSTART:20210328T010000
END:DAYLIGHT
BEGIN:STANDARD
TZOFFSETFROM:+0100
TZOFFSETTO:+0000
TZNAME:GMT
DTSTART:20211031T010000
END:STANDARD
BEGIN:DAYLIGHT
TZOFFSETFROM:+0000
TZOFFSETTO:+0100
TZNAME:BST
DTSTART:20220327T010000
END:DAYLIGHT
BEGIN:STANDARD
TZOFFSETFROM:+0100
TZOFFSETTO:+0000
TZNAME:GMT
DTSTART:20221030T010000
END:STANDARD
END:VTIMEZONE
BEGIN:VEVENT
DTSTART;TZID=Europe/London:20210712T100000
DTEND;TZID=Europe/London:20210714T180000
DTSTAMP:20260422T234821
CREATED:20210225T180745Z
LAST-MODIFIED:20210225T180745Z
UID:10001902-1626084000-1626285600@oakley-services.co.uk
SUMMARY:First Aid at Work
DESCRIPTION:
URL:https://oakley-services.co.uk/courses/first-aid-at-work-14/
LOCATION:Basingstoke Training Centre\, Hart House\, Priestley Road\, Basingstoke\, Hampshire\, RG24 9PU\, United Kingdom
CATEGORIES:First Aid Training Courses
ORGANIZER;CN="Oakley Services":MAILTO:info@oakley-services.co.uk
END:VEVENT
BEGIN:VEVENT
DTSTART;TZID=Europe/London:20210715T100000
DTEND;TZID=Europe/London:20210716T173000
DTSTAMP:20260422T234821
CREATED:20210225T174701Z
LAST-MODIFIED:20210716T065045Z
UID:10001617-1626343200-1626456600@oakley-services.co.uk
SUMMARY:First Aid at Work Requalification Course
DESCRIPTION:
URL:https://oakley-services.co.uk/courses/first-aid-at-work-requalification-course-11/
LOCATION:Basingstoke Training Centre\, Hart House\, Priestley Road\, Basingstoke\, Hampshire\, RG24 9PU\, United Kingdom
CATEGORIES:First Aid Training Courses
ORGANIZER;CN="Oakley Services":MAILTO:info@oakley-services.co.uk
END:VEVENT
BEGIN:VEVENT
DTSTART;TZID=Europe/London:20210809T100000
DTEND;TZID=Europe/London:20210809T173000
DTSTAMP:20260422T234821
CREATED:20210728T070331Z
LAST-MODIFIED:20210809T105228Z
UID:10001649-1628503200-1628530200@oakley-services.co.uk
SUMMARY:Emergency First Aid at Work
DESCRIPTION:
URL:https://oakley-services.co.uk/courses/emergency-first-aid-at-work-46/
LOCATION:Basingstoke Training Centre\, Hart House\, Priestley Road\, Basingstoke\, Hampshire\, RG24 9PU\, United Kingdom
CATEGORIES:First Aid Training Courses
ORGANIZER;CN="Oakley Services":MAILTO:info@oakley-services.co.uk
END:VEVENT
BEGIN:VEVENT
DTSTART;TZID=Europe/London:20210811T100000
DTEND;TZID=Europe/London:20210813T180000
DTSTAMP:20260422T234821
CREATED:20210706T123712Z
LAST-MODIFIED:20210707T072857Z
UID:10001937-1628676000-1628877600@oakley-services.co.uk
SUMMARY:First Aid at Work
DESCRIPTION:
URL:https://oakley-services.co.uk/courses/first-aid-at-work-13/
LOCATION:Basingstoke Training Centre\, Hart House\, Priestley Road\, Basingstoke\, Hampshire\, RG24 9PU\, United Kingdom
CATEGORIES:First Aid Training Courses
ORGANIZER;CN="Oakley Services":MAILTO:info@oakley-services.co.uk
END:VEVENT
BEGIN:VEVENT
DTSTART;TZID=Europe/London:20210930T100000
DTEND;TZID=Europe/London:20211001T173000
DTSTAMP:20260422T234821
CREATED:20211117T173854Z
LAST-MODIFIED:20211117T174932Z
UID:10001684-1632996000-1633109400@oakley-services.co.uk
SUMMARY:First Aid at Work Requalification Course
DESCRIPTION:
URL:https://oakley-services.co.uk/courses/first-aid-at-work-requalification-course-13/
LOCATION:Basingstoke Training Centre\, Hart House\, Priestley Road\, Basingstoke\, Hampshire\, RG24 9PU\, United Kingdom
CATEGORIES:First Aid Training Courses
ORGANIZER;CN="Oakley Services":MAILTO:info@oakley-services.co.uk
END:VEVENT
BEGIN:VEVENT
DTSTART;TZID=Europe/London:20211103T090000
DTEND;TZID=Europe/London:20211105T170000
DTSTAMP:20260422T234821
CREATED:20210910T121228Z
LAST-MODIFIED:20220114T132116Z
UID:10001675-1635930000-1636131600@oakley-services.co.uk
SUMMARY:First Aid at Work
DESCRIPTION:
URL:https://oakley-services.co.uk/courses/first-aid-at-work-17/
LOCATION:Basingstoke Training Centre\, Hart House\, Priestley Road\, Basingstoke\, Hampshire\, RG24 9PU\, United Kingdom
CATEGORIES:First Aid Training Courses
ORGANIZER;CN="Oakley Services":MAILTO:info@oakley-services.co.uk
END:VEVENT
BEGIN:VEVENT
DTSTART;TZID=Europe/London:20211129T090000
DTEND;TZID=Europe/London:20211130T163000
DTSTAMP:20260422T234821
CREATED:20211013T131643Z
LAST-MODIFIED:20241128T183443Z
UID:10001973-1638176400-1638289800@oakley-services.co.uk
SUMMARY:First Aid at Work Requalification Course
DESCRIPTION:
URL:https://oakley-services.co.uk/courses/first-aid-at-work-requalification-course-12/
LOCATION:Basingstoke Training Centre\, Hart House\, Priestley Road\, Basingstoke\, Hampshire\, RG24 9PU\, United Kingdom
CATEGORIES:First Aid Training Courses
ORGANIZER;CN="Oakley Services":MAILTO:info@oakley-services.co.uk
END:VEVENT
BEGIN:VEVENT
DTSTART;TZID=Europe/London:20211213T090000
DTEND;TZID=Europe/London:20211214T163000
DTSTAMP:20260422T234821
CREATED:20211209T153630Z
LAST-MODIFIED:20220214T181215Z
UID:10001999-1639386000-1639499400@oakley-services.co.uk
SUMMARY:First Aid at Work Requalification Course
DESCRIPTION:
URL:https://oakley-services.co.uk/courses/first-aid-at-work-requalification-course-14/
LOCATION:Basingstoke Training Centre\, Hart House\, Priestley Road\, Basingstoke\, Hampshire\, RG24 9PU\, United Kingdom
CATEGORIES:First Aid Training Courses
ORGANIZER;CN="Oakley Services":MAILTO:info@oakley-services.co.uk
END:VEVENT
BEGIN:VEVENT
DTSTART;TZID=Europe/London:20211213T090000
DTEND;TZID=Europe/London:20211214T163000
DTSTAMP:20260422T234821
CREATED:20211209T141458Z
LAST-MODIFIED:20211209T151857Z
UID:10001998-1639386000-1639499400@oakley-services.co.uk
SUMMARY:First Aid at Work
DESCRIPTION:
URL:https://oakley-services.co.uk/courses/first-aid-at-work-19/
LOCATION:Basingstoke Training Centre\, Hart House\, Priestley Road\, Basingstoke\, Hampshire\, RG24 9PU\, United Kingdom
CATEGORIES:First Aid Training Courses
ORGANIZER;CN="Oakley Services":MAILTO:info@oakley-services.co.uk
END:VEVENT
BEGIN:VEVENT
DTSTART;TZID=Europe/London:20220104T090000
DTEND;TZID=Europe/London:20220104T163000
DTSTAMP:20260422T234821
CREATED:20220204T111106Z
LAST-MODIFIED:20220204T133645Z
UID:10001745-1641286800-1641313800@oakley-services.co.uk
SUMMARY:Emergency First Aid at Work
DESCRIPTION:
URL:https://oakley-services.co.uk/courses/emergency-first-aid-at-work-67/
LOCATION:Peter Symonds College\, Owens Road\, Winchester\, Hampshire\, SO22 6RX\, United Kingdom
CATEGORIES:First Aid Training Courses
ORGANIZER;CN="Oakley Services":MAILTO:info@oakley-services.co.uk
END:VEVENT
BEGIN:VEVENT
DTSTART;TZID=Europe/London:20220106T090000
DTEND;TZID=Europe/London:20220106T163000
DTSTAMP:20260422T234821
CREATED:20211229T145747Z
LAST-MODIFIED:20211229T155605Z
UID:10002008-1641459600-1641486600@oakley-services.co.uk
SUMMARY:Emergency First Aid at Work
DESCRIPTION:
URL:https://oakley-services.co.uk/courses/emergency-first-aid-at-work-58/
LOCATION:Basingstoke Training Centre\, Hart House\, Priestley Road\, Basingstoke\, Hampshire\, RG24 9PU\, United Kingdom
CATEGORIES:First Aid Training Courses
ORGANIZER;CN="Oakley Services":MAILTO:info@oakley-services.co.uk
END:VEVENT
BEGIN:VEVENT
DTSTART;TZID=Europe/London:20220113T090000
DTEND;TZID=Europe/London:20220114T163000
DTSTAMP:20260422T234821
CREATED:20211229T153420Z
LAST-MODIFIED:20211229T153606Z
UID:10002009-1642064400-1642177800@oakley-services.co.uk
SUMMARY:First Aid at Work Requalification Course
DESCRIPTION:
URL:https://oakley-services.co.uk/courses/first-aid-at-work-requalification-course-15/
LOCATION:Basingstoke Training Centre\, Hart House\, Priestley Road\, Basingstoke\, Hampshire\, RG24 9PU\, United Kingdom
CATEGORIES:First Aid Training Courses
ORGANIZER;CN="Oakley Services":MAILTO:info@oakley-services.co.uk
END:VEVENT
BEGIN:VEVENT
DTSTART;TZID=Europe/London:20220113T090000
DTEND;TZID=Europe/London:20220114T163000
DTSTAMP:20260422T234821
CREATED:20211231T164958Z
LAST-MODIFIED:20211231T164958Z
UID:10002020-1642064400-1642177800@oakley-services.co.uk
SUMMARY:First Aid at Work Requalification Course
DESCRIPTION:
URL:https://oakley-services.co.uk/courses/first-aid-at-work-requalification-course-20/
LOCATION:Basingstoke Training Centre\, Hart House\, Priestley Road\, Basingstoke\, Hampshire\, RG24 9PU\, United Kingdom
CATEGORIES:First Aid Training Courses
ORGANIZER;CN="Oakley Services":MAILTO:info@oakley-services.co.uk
END:VEVENT
BEGIN:VEVENT
DTSTART;TZID=Europe/London:20220117T090000
DTEND;TZID=Europe/London:20220119T170000
DTSTAMP:20260422T234821
CREATED:20211229T160148Z
LAST-MODIFIED:20211229T160407Z
UID:10002010-1642410000-1642611600@oakley-services.co.uk
SUMMARY:First Aid at Work
DESCRIPTION:
URL:https://oakley-services.co.uk/courses/first-aid-at-work-20/
LOCATION:Basingstoke Training Centre\, Hart House\, Priestley Road\, Basingstoke\, Hampshire\, RG24 9PU\, United Kingdom
CATEGORIES:First Aid Training Courses
ORGANIZER;CN="Oakley Services":MAILTO:info@oakley-services.co.uk
END:VEVENT
BEGIN:VEVENT
DTSTART;TZID=Europe/London:20220204T090000
DTEND;TZID=Europe/London:20220204T163000
DTSTAMP:20260422T234821
CREATED:20211231T174752Z
LAST-MODIFIED:20211231T174752Z
UID:10002024-1643965200-1643992200@oakley-services.co.uk
SUMMARY:Emergency First Aid at Work
DESCRIPTION:
URL:https://oakley-services.co.uk/courses/emergency-first-aid-at-work-63/
LOCATION:Basingstoke Training Centre\, Hart House\, Priestley Road\, Basingstoke\, Hampshire\, RG24 9PU\, United Kingdom
CATEGORIES:First Aid Training Courses
ORGANIZER;CN="Oakley Services":MAILTO:info@oakley-services.co.uk
END:VEVENT
BEGIN:VEVENT
DTSTART;TZID=Europe/London:20220214T090000
DTEND;TZID=Europe/London:20220215T163000
DTSTAMP:20260422T234821
CREATED:20211231T164045Z
LAST-MODIFIED:20220220T172500Z
UID:10002019-1644829200-1644942600@oakley-services.co.uk
SUMMARY:First Aid at Work Requalification Course
DESCRIPTION:
URL:https://oakley-services.co.uk/courses/first-aid-at-work-requalification-course-19/
LOCATION:Basingstoke Training Centre\, Hart House\, Priestley Road\, Basingstoke\, Hampshire\, RG24 9PU\, United Kingdom
CATEGORIES:First Aid Training Courses
ORGANIZER;CN="Oakley Services":MAILTO:info@oakley-services.co.uk
END:VEVENT
BEGIN:VEVENT
DTSTART;TZID=Europe/London:20220216T090000
DTEND;TZID=Europe/London:20220218T170000
DTSTAMP:20260422T234821
CREATED:20211231T131931Z
LAST-MODIFIED:20220222T163323Z
UID:10002014-1645002000-1645203600@oakley-services.co.uk
SUMMARY:First Aid at Work
DESCRIPTION:
URL:https://oakley-services.co.uk/courses/first-aid-at-work-22/
LOCATION:Basingstoke Training Centre\, Hart House\, Priestley Road\, Basingstoke\, Hampshire\, RG24 9PU\, United Kingdom
CATEGORIES:First Aid Training Courses
ORGANIZER;CN="Oakley Services":MAILTO:info@oakley-services.co.uk
END:VEVENT
BEGIN:VEVENT
DTSTART;TZID=Europe/London:20220303T090000
DTEND;TZID=Europe/London:20220303T163000
DTSTAMP:20260422T234821
CREATED:20211231T174406Z
LAST-MODIFIED:20211231T174406Z
UID:10002023-1646298000-1646325000@oakley-services.co.uk
SUMMARY:Emergency First Aid at Work
DESCRIPTION:
URL:https://oakley-services.co.uk/courses/emergency-first-aid-at-work-62/
LOCATION:Basingstoke Training Centre\, Hart House\, Priestley Road\, Basingstoke\, Hampshire\, RG24 9PU\, United Kingdom
CATEGORIES:First Aid Training Courses
ORGANIZER;CN="Oakley Services":MAILTO:info@oakley-services.co.uk
END:VEVENT
BEGIN:VEVENT
DTSTART;TZID=Europe/London:20220314T090000
DTEND;TZID=Europe/London:20220315T163000
DTSTAMP:20260422T234821
CREATED:20211231T163758Z
LAST-MODIFIED:20211231T163758Z
UID:10002018-1647248400-1647361800@oakley-services.co.uk
SUMMARY:First Aid at Work Requalification Course
DESCRIPTION:
URL:https://oakley-services.co.uk/courses/first-aid-at-work-requalification-course-18/
LOCATION:Basingstoke Training Centre\, Hart House\, Priestley Road\, Basingstoke\, Hampshire\, RG24 9PU\, United Kingdom
CATEGORIES:First Aid Training Courses
ORGANIZER;CN="Oakley Services":MAILTO:info@oakley-services.co.uk
END:VEVENT
BEGIN:VEVENT
DTSTART;TZID=Europe/London:20220316T090000
DTEND;TZID=Europe/London:20220318T170000
DTSTAMP:20260422T234821
CREATED:20211231T151013Z
LAST-MODIFIED:20211231T151444Z
UID:10002015-1647421200-1647622800@oakley-services.co.uk
SUMMARY:First Aid at Work
DESCRIPTION:
URL:https://oakley-services.co.uk/courses/first-aid-at-work-23/
LOCATION:Basingstoke Training Centre\, Hart House\, Priestley Road\, Basingstoke\, Hampshire\, RG24 9PU\, United Kingdom
CATEGORIES:First Aid Training Courses
ORGANIZER;CN="Oakley Services":MAILTO:info@oakley-services.co.uk
END:VEVENT
BEGIN:VEVENT
DTSTART;TZID=Europe/London:20220319T090000
DTEND;TZID=Europe/London:20220326T163000
DTSTAMP:20260422T234821
CREATED:20220121T103905Z
LAST-MODIFIED:20220411T163057Z
UID:10001733-1647680400-1648312200@oakley-services.co.uk
SUMMARY:Full Paediatric First Aid Course
DESCRIPTION:
URL:https://oakley-services.co.uk/courses/full-paediatric-first-aid-course-20/
LOCATION:Basingstoke Training Centre\, Hart House\, Priestley Road\, Basingstoke\, Hampshire\, RG24 9PU\, United Kingdom
CATEGORIES:First Aid Training Courses
ORGANIZER;CN="Oakley Services":MAILTO:info@oakley-services.co.uk
END:VEVENT
BEGIN:VEVENT
DTSTART;TZID=Europe/London:20220401T100000
DTEND;TZID=Europe/London:20220401T173000
DTSTAMP:20260422T234821
CREATED:20211231T174116Z
LAST-MODIFIED:20220411T161207Z
UID:10002022-1648807200-1648834200@oakley-services.co.uk
SUMMARY:Emergency First Aid at Work
DESCRIPTION:
URL:https://oakley-services.co.uk/courses/emergency-first-aid-at-work-61/
LOCATION:Basingstoke Training Centre\, Hart House\, Priestley Road\, Basingstoke\, Hampshire\, RG24 9PU\, United Kingdom
CATEGORIES:First Aid Training Courses
ORGANIZER;CN="Oakley Services":MAILTO:info@oakley-services.co.uk
END:VEVENT
BEGIN:VEVENT
DTSTART;TZID=Europe/London:20220420T100000
DTEND;TZID=Europe/London:20220422T180000
DTSTAMP:20260422T234821
CREATED:20211231T151402Z
LAST-MODIFIED:20250131T100918Z
UID:10002016-1650448800-1650650400@oakley-services.co.uk
SUMMARY:First Aid at Work
DESCRIPTION:
URL:https://oakley-services.co.uk/courses/first-aid-at-work-24/
LOCATION:Basingstoke Training Centre\, Hart House\, Priestley Road\, Basingstoke\, Hampshire\, RG24 9PU\, United Kingdom
CATEGORIES:First Aid Training Courses
ORGANIZER;CN="Oakley Services":MAILTO:info@oakley-services.co.uk
END:VEVENT
BEGIN:VEVENT
DTSTART;TZID=Europe/London:20220425T100000
DTEND;TZID=Europe/London:20220426T173000
DTSTAMP:20260422T234821
CREATED:20211231T163452Z
LAST-MODIFIED:20211231T163452Z
UID:10002017-1650880800-1650994200@oakley-services.co.uk
SUMMARY:First Aid at Work Requalification Course
DESCRIPTION:
URL:https://oakley-services.co.uk/courses/first-aid-at-work-requalification-course-17/
LOCATION:Basingstoke Training Centre\, Hart House\, Priestley Road\, Basingstoke\, Hampshire\, RG24 9PU\, United Kingdom
CATEGORIES:First Aid Training Courses
ORGANIZER;CN="Oakley Services":MAILTO:info@oakley-services.co.uk
END:VEVENT
BEGIN:VEVENT
DTSTART;TZID=Europe/London:20220505T100000
DTEND;TZID=Europe/London:20220505T173000
DTSTAMP:20260422T234821
CREATED:20211231T171601Z
LAST-MODIFIED:20211231T171601Z
UID:10002021-1651744800-1651771800@oakley-services.co.uk
SUMMARY:Emergency First Aid at Work
DESCRIPTION:
URL:https://oakley-services.co.uk/courses/emergency-first-aid-at-work-60/
LOCATION:Basingstoke Training Centre\, Hart House\, Priestley Road\, Basingstoke\, Hampshire\, RG24 9PU\, United Kingdom
CATEGORIES:First Aid Training Courses
ORGANIZER;CN="Oakley Services":MAILTO:info@oakley-services.co.uk
END:VEVENT
BEGIN:VEVENT
DTSTART;TZID=Europe/London:20220620T100000
DTEND;TZID=Europe/London:20220622T180000
DTSTAMP:20260422T234821
CREATED:20220619T162535Z
LAST-MODIFIED:20220627T090604Z
UID:10001792-1655719200-1655920800@oakley-services.co.uk
SUMMARY:First Aid at Work
DESCRIPTION:
URL:https://oakley-services.co.uk/courses/first-aid-at-work-25/
LOCATION:Basingstoke Training Centre\, Hart House\, Priestley Road\, Basingstoke\, Hampshire\, RG24 9PU\, United Kingdom
CATEGORIES:First Aid Training Courses
ORGANIZER;CN="Oakley Services":MAILTO:info@oakley-services.co.uk
END:VEVENT
BEGIN:VEVENT
DTSTART;TZID=Europe/London:20220715T100000
DTEND;TZID=Europe/London:20220715T173000
DTSTAMP:20260422T234821
CREATED:20220711T153416Z
LAST-MODIFIED:20220718T100701Z
UID:10002084-1657879200-1657906200@oakley-services.co.uk
SUMMARY:Emergency First Aid at Work
DESCRIPTION:
URL:https://oakley-services.co.uk/courses/emergency-first-aid-at-work-73/
LOCATION:Basingstoke Training Centre\, Hart House\, Priestley Road\, Basingstoke\, Hampshire\, RG24 9PU\, United Kingdom
CATEGORIES:First Aid Training Courses
ORGANIZER;CN="Oakley Services":MAILTO:info@oakley-services.co.uk
END:VEVENT
BEGIN:VEVENT
DTSTART;TZID=Europe/London:20220726T090000
DTEND;TZID=Europe/London:20220727T163000
DTSTAMP:20260422T234821
CREATED:20220711T163216Z
LAST-MODIFIED:20220727T161517Z
UID:10002085-1658826000-1658939400@oakley-services.co.uk
SUMMARY:First Aid at Work Requalification Course
DESCRIPTION:
URL:https://oakley-services.co.uk/courses/first-aid-at-work-requalification-course-16/
LOCATION:Basingstoke Training Centre\, Hart House\, Priestley Road\, Basingstoke\, Hampshire\, RG24 9PU\, United Kingdom
CATEGORIES:First Aid Training Courses
ORGANIZER;CN="Oakley Services":MAILTO:info@oakley-services.co.uk
END:VEVENT
BEGIN:VEVENT
DTSTART;TZID=Europe/London:20220822T090000
DTEND;TZID=Europe/London:20220824T170000
DTSTAMP:20260422T234821
CREATED:20220730T074236Z
LAST-MODIFIED:20220829T125014Z
UID:10001798-1661158800-1661360400@oakley-services.co.uk
SUMMARY:First Aid at Work
DESCRIPTION:
URL:https://oakley-services.co.uk/courses/first-aid-at-work-27/
LOCATION:Basingstoke Training Centre\, Hart House\, Priestley Road\, Basingstoke\, Hampshire\, RG24 9PU\, United Kingdom
CATEGORIES:First Aid Training Courses
ORGANIZER;CN="Oakley Services":MAILTO:info@oakley-services.co.uk
END:VEVENT
BEGIN:VEVENT
DTSTART;TZID=Europe/London:20220927T090000
DTEND;TZID=Europe/London:20220929T170000
DTSTAMP:20260422T234821
CREATED:20220730T074543Z
LAST-MODIFIED:20221015T141010Z
UID:10001801-1664269200-1664470800@oakley-services.co.uk
SUMMARY:First Aid at Work
DESCRIPTION:
URL:https://oakley-services.co.uk/courses/first-aid-at-work-28/
LOCATION:Basingstoke Training Centre\, Hart House\, Priestley Road\, Basingstoke\, Hampshire\, RG24 9PU\, United Kingdom
CATEGORIES:First Aid Training Courses
ORGANIZER;CN="Oakley Services":MAILTO:info@oakley-services.co.uk
END:VEVENT
END:VCALENDAR