BEGIN:VCALENDAR
VERSION:2.0
PRODID:-//Oakley Training &amp; Consultancy - ECPv6.2.8//NONSGML v1.0//EN
CALSCALE:GREGORIAN
METHOD:PUBLISH
X-ORIGINAL-URL:https://oakley-services.co.uk
X-WR-CALDESC:Events for Oakley Training &amp; Consultancy
REFRESH-INTERVAL;VALUE=DURATION:PT1H
X-Robots-Tag:noindex
X-PUBLISHED-TTL:PT1H
BEGIN:VTIMEZONE
TZID:Europe/London
BEGIN:DAYLIGHT
TZOFFSETFROM:+0000
TZOFFSETTO:+0100
TZNAME:BST
DTSTART:20210328T010000
END:DAYLIGHT
BEGIN:STANDARD
TZOFFSETFROM:+0100
TZOFFSETTO:+0000
TZNAME:GMT
DTSTART:20211031T010000
END:STANDARD
END:VTIMEZONE
BEGIN:VEVENT
DTSTART;TZID=Europe/London:20210421T100000
DTEND;TZID=Europe/London:20210423T180000
DTSTAMP:20260422T004426
CREATED:20210130T152036Z
LAST-MODIFIED:20210317T094321Z
UID:10001895-1618999200-1619200800@oakley-services.co.uk
SUMMARY:IOSH Managing Safely
DESCRIPTION: 
URL:https://oakley-services.co.uk/courses/iosh-managing-safely-9/
LOCATION:Virtual Training Course
CATEGORIES:Health & Safety Training Courses
ORGANIZER;CN="Oakley Services":MAILTO:info@oakley-services.co.uk
END:VEVENT
END:VCALENDAR