BEGIN:VCALENDAR
VERSION:2.0
PRODID:-//Oakley Training &amp; Consultancy - ECPv6.2.8//NONSGML v1.0//EN
CALSCALE:GREGORIAN
METHOD:PUBLISH
X-WR-CALNAME:Oakley Training &amp; Consultancy
X-ORIGINAL-URL:https://oakley-services.co.uk
X-WR-CALDESC:Events for Oakley Training &amp; Consultancy
REFRESH-INTERVAL;VALUE=DURATION:PT1H
X-Robots-Tag:noindex
X-PUBLISHED-TTL:PT1H
BEGIN:VTIMEZONE
TZID:Europe/London
BEGIN:DAYLIGHT
TZOFFSETFROM:+0000
TZOFFSETTO:+0100
TZNAME:BST
DTSTART:20200329T010000
END:DAYLIGHT
BEGIN:STANDARD
TZOFFSETFROM:+0100
TZOFFSETTO:+0000
TZNAME:GMT
DTSTART:20201025T010000
END:STANDARD
END:VTIMEZONE
BEGIN:VEVENT
DTSTART;TZID=Europe/London:20200307T110000
DTEND;TZID=Europe/London:20200307T130000
DTSTAMP:20260420T010351
CREATED:20200210T170800Z
LAST-MODIFIED:20200401T125535Z
UID:10001732-1583578800-1583586000@oakley-services.co.uk
SUMMARY:18th Edition On-Line Exam only
DESCRIPTION:
URL:https://oakley-services.co.uk/courses/18th-edition-on-line-exam-only-20/
LOCATION:Basingstoke Training Centre\, Hart House\, Priestley Road\, Basingstoke\, Hampshire\, RG24 9PU\, United Kingdom
CATEGORIES:Electrical Training Courses
ORGANIZER;CN="Oakley Services":MAILTO:info@oakley-services.co.uk
END:VEVENT
BEGIN:VEVENT
DTSTART;TZID=Europe/London:20200314T090000
DTEND;TZID=Europe/London:20200321T163000
DTSTAMP:20260420T010351
CREATED:20200311T134620Z
LAST-MODIFIED:20200519T165813Z
UID:10001753-1584176400-1584808200@oakley-services.co.uk
SUMMARY:Full Paediatric First Aid Course
DESCRIPTION:
URL:https://oakley-services.co.uk/courses/full-paediatric-first-aid-course-7/
LOCATION:Basingstoke Training Centre\, Hart House\, Priestley Road\, Basingstoke\, Hampshire\, RG24 9PU\, United Kingdom
CATEGORIES:First Aid Training Courses
ORGANIZER;CN="Oakley Services":MAILTO:info@oakley-services.co.uk
END:VEVENT
BEGIN:VEVENT
DTSTART;TZID=Europe/London:20200323T090000
DTEND;TZID=Europe/London:20200324T173000
DTSTAMP:20260420T010351
CREATED:20200317T194555Z
LAST-MODIFIED:20200814T081850Z
UID:10001765-1584954000-1585071000@oakley-services.co.uk
SUMMARY:Certificate for the Inspection & Testing of Portable Electrical Equipment
DESCRIPTION:
URL:https://oakley-services.co.uk/courses/certificate-for-the-inspection-testing-of-portable-electrical-equipment/
LOCATION:Basingstoke Training Centre\, Hart House\, Priestley Road\, Basingstoke\, Hampshire\, RG24 9PU\, United Kingdom
CATEGORIES:Electrical Training Courses
ORGANIZER;CN="Oakley Services":MAILTO:info@oakley-services.co.uk
END:VEVENT
BEGIN:VEVENT
DTSTART;TZID=Europe/London:20200323T090000
DTEND;TZID=Europe/London:20200325T163000
DTSTAMP:20260420T010351
CREATED:20191129T100734Z
LAST-MODIFIED:20200331T110643Z
UID:10001681-1584954000-1585153800@oakley-services.co.uk
SUMMARY:18th Edition C&G 2382-18 3 day Full Course
DESCRIPTION:
URL:https://oakley-services.co.uk/courses/18th-edition-cg-2382-18-3-day-full-course-6/
LOCATION:Basingstoke Training Centre\, Hart House\, Priestley Road\, Basingstoke\, Hampshire\, RG24 9PU\, United Kingdom
CATEGORIES:Electrical Training Courses
ORGANIZER;CN="Oakley Services":MAILTO:info@oakley-services.co.uk
END:VEVENT
END:VCALENDAR