BEGIN:VCALENDAR
VERSION:2.0
PRODID:-//Oakley Training &amp; Consultancy - ECPv6.2.8//NONSGML v1.0//EN
CALSCALE:GREGORIAN
METHOD:PUBLISH
X-ORIGINAL-URL:https://oakley-services.co.uk
X-WR-CALDESC:Events for Oakley Training &amp; Consultancy
REFRESH-INTERVAL;VALUE=DURATION:PT1H
X-Robots-Tag:noindex
X-PUBLISHED-TTL:PT1H
BEGIN:VTIMEZONE
TZID:Europe/London
BEGIN:DAYLIGHT
TZOFFSETFROM:+0000
TZOFFSETTO:+0100
TZNAME:BST
DTSTART:20200329T010000
END:DAYLIGHT
BEGIN:STANDARD
TZOFFSETFROM:+0100
TZOFFSETTO:+0000
TZNAME:GMT
DTSTART:20201025T010000
END:STANDARD
END:VTIMEZONE
BEGIN:VEVENT
DTSTART;TZID=Europe/London:20200606T110000
DTEND;TZID=Europe/London:20200606T120000
DTSTAMP:20260419T190451
CREATED:20200518T110528Z
LAST-MODIFIED:20200608T191237Z
UID:10001775-1591441200-1591444800@oakley-services.co.uk
SUMMARY:Certificate in the Building Regulations for Electrical Installations in Dwellings C&G 2393-10 exam only
DESCRIPTION:Certificate in the Building Regulations for Electrical Installations in Dwellings C&G 2393-102
URL:https://oakley-services.co.uk/courses/certificate-in-the-building-regulations-for-electrical-installations-in-dwellings-cg-2393-10-exam-only/
LOCATION:Basingstoke Training Centre\, Hart House\, Priestley Road\, Basingstoke\, Hampshire\, RG24 9PU\, United Kingdom
CATEGORIES:Electrical Training Courses
END:VEVENT
BEGIN:VEVENT
DTSTART;TZID=Europe/London:20200606T120000
DTEND;TZID=Europe/London:20200606T140000
DTSTAMP:20260419T190451
CREATED:20200515T145454Z
LAST-MODIFIED:20200608T191359Z
UID:10001773-1591444800-1591452000@oakley-services.co.uk
SUMMARY:18th Edition On-Line Exam only
DESCRIPTION:
URL:https://oakley-services.co.uk/courses/18th-edition-on-line-exam-only-27/
LOCATION:Basingstoke Training Centre\, Hart House\, Priestley Road\, Basingstoke\, Hampshire\, RG24 9PU\, United Kingdom
CATEGORIES:Electrical Training Courses
ORGANIZER;CN="Oakley Services":MAILTO:info@oakley-services.co.uk
END:VEVENT
BEGIN:VEVENT
DTSTART;TZID=Europe/London:20200606T150000
DTEND;TZID=Europe/London:20200606T170000
DTSTAMP:20260419T190451
CREATED:20200515T145811Z
LAST-MODIFIED:20200608T191121Z
UID:10001774-1591455600-1591462800@oakley-services.co.uk
SUMMARY:18th Edition On-Line Exam only
DESCRIPTION:
URL:https://oakley-services.co.uk/courses/18th-edition-on-line-exam-only-28/
LOCATION:Basingstoke Training Centre\, Hart House\, Priestley Road\, Basingstoke\, Hampshire\, RG24 9PU\, United Kingdom
CATEGORIES:Electrical Training Courses
ORGANIZER;CN="Oakley Services":MAILTO:info@oakley-services.co.uk
END:VEVENT
END:VCALENDAR